BEGIN:VCALENDAR
VERSION:2.0
PRODID:-//ChamberMaster//Event Calendar 2.0//EN
METHOD:PUBLISH
X-PUBLISHED-TTL:P3D
REFRESH-INTERVAL:P3D
CALSCALE:GREGORIAN
BEGIN:VEVENT
DTSTART:20200826T163000Z
DTEND:20200826T180000Z
X-MICROSOFT-CDO-ALLDAYEVENT:FALSE
SUMMARY:New Member Orientation Webinar
DESCRIPTION:MBA Pierce invites you to our August 26th New and Prospective Members Orientation Webinar.\n\n\n\nFind out how a membership with MBA Pierce can save you thousands! Join us and enter to win a $100 Amazon gift card and more!\n\n\n\nThis informative event will feature detailed information on:\n\n\n	Retro L&I program R.O.I.I.- Learn from industry expert Jenn Kavanaugh\n	Advantages of BIAW Health Insurance\n	BIAW's Educational Courses and Certifications\n	NAHB's Member Advantage Program and Educational Services \n	APP Fuel Perks  \n	National Purchasing Partners (NPP) \n	Networking Opportunities and Committee opportunities presented by MBA Members & Staff\n\nAs a new\, prospective\, or long time member you will also learn how to become more involved with our association and have an opportunity to sign up for quotes on the above programs\, upcoming events\, and committee meetings. Know what your MBA Pierce membership can do for you and your community!
X-ALT-DESC;FMTTYPE=text/html:<p>MBA Pierce invites you to our August 26th&nbsp\;New and Prospective Members Orientation Webinar.<br />\n<br />\nFind out how a membership with MBA Pierce can save you thousands! Join us and enter to&nbsp\;win a $100 Amazon gift card and more!<br />\n<br />\nThis informative event&nbsp\;will feature detailed information on:</p>\n\n<ul>\n	<li>Retro L&amp\;I program R.O.I.I.- Learn from industry expert Jenn Kavanaugh</li>\n	<li>Advantages of BIAW Health Insurance</li>\n	<li>BIAW&#39\;s Educational Courses and Certifications</li>\n	<li>NAHB&#39\;s Member Advantage Program and Educational Services&nbsp\;</li>\n	<li>APP Fuel Perks&nbsp\;&nbsp\;</li>\n	<li>National Purchasing Partners (NPP)&nbsp\;</li>\n	<li>Networking Opportunities&nbsp\;and Committee opportunities presented by MBA Members &amp\; Staff</li>\n</ul>\nAs a new\, prospective\, or long time member you will also learn how to become more involved with our association and have an opportunity to sign up for quotes on the above programs\, upcoming events\, and committee meetings. Know what your MBA Pierce membership can do for you and your community!&nbsp\;
LOCATION:We will be hosting this webinar via Zoom Please RSVP for meeting credentials
UID:e.9280.4109
SEQUENCE:3
DTSTAMP:20260421T110412Z
URL:https://mbamemberzone.tacomawebsite.net/events/details/new-member-orientation-webinar-4109
END:VEVENT

END:VCALENDAR
