BEGIN:VCALENDAR
VERSION:2.0
PRODID:-//ChamberMaster//Event Calendar 2.0//EN
METHOD:PUBLISH
X-PUBLISHED-TTL:P3D
REFRESH-INTERVAL:P3D
CALSCALE:GREGORIAN
BEGIN:VEVENT
DTSTART:20200817T160000Z
DTEND:20200817T220000Z
X-MICROSOFT-CDO-ALLDAYEVENT:FALSE
SUMMARY:Master Builders Spotlight featuring Brookdale Lumber
DESCRIPTION:MBA Pierce is proud to announce the official launch of our Member "You're in the Spotlight" Program with sponsor Brookdale Lumber.  This one-day only promotion is a chance to network with your community\, enjoy food and entertainment\, and access incredible special offers. Come support a fellow member!\n\n\n\nAs a proud MBA Pierce member\, Brookdale Lumber invites you to stop by on Aug. 17th and enjoy this special promotion:\n\n	 5% OFF All Purchases\n	20% OFF Garden Section (isles 44-47)\n\nStop by any time between 9 a.m. - 3 p.m. - No registration or RSVP is required. Questions? Contact Membership Manager Jennifer Murphy.\n\n\n\n\n\n\n\nWhat is the Member Spotlight Program?\n\nThe Member Spotlight Program is a unique partnership program between MBA Pierce and our member companies who want to be in the spotlight! What does this mean for your business? Hosting an event provides several opportunities!   Learn More\n\n\n\n\n\n\n\nPlease Note: Social distancing and face masks are required. This event is subject change due to regulatory requirements of appropriate government entities due to the COVID-19 crisis. This could include additional health restrictions and requirements on activities and even possible cancellation of the event. We will make every reasonable effort to notify you of changes in plans.
X-ALT-DESC;FMTTYPE=text/html:MBA Pierce is proud to announce the official launch of our <a href="https://www.mbapierce.com/member-spotlight" target="_blank">Member "You're in the Spotlight" Program</a> with sponsor Brookdale Lumber.&nbsp\; This one-day only promotion is a chance to network with your community\, enjoy food and entertainment\, and access incredible special offers. Come support a fellow member!<br>\n<br>\nAs a proud MBA Pierce member\, Brookdale Lumber invites you to stop by on Aug. 17th and enjoy this special promotion:\n<ul>\n	<li>&nbsp\;5% OFF All Purchases</li>\n	<li>20% OFF Garden Section (isles 44-47)</li>\n</ul>\nStop by any time between 9 a.m. - 3 p.m. - No registration or RSVP is required. Questions? Contact Membership Manager Jennifer Murphy.<br>\n<br>\n<br>\n<br>\n<u><strong>What is the Member Spotlight Program?</strong></u><br>\nThe Member Spotlight Program is a unique partnership program between MBA Pierce and our member companies who want to be in the spotlight! What does this mean for your business? Hosting an event provides several opportunities! <em><strong><a href="https://www.mbapierce.com/member-spotlight" target="_blank">&gt\;&gt\;Learn More</a></strong></em><br>\n<br>\n<br>\n<br>\n<strong>Please Note:</strong> <em>Social distancing and face masks are required. This event is subject change due to regulatory requirements of appropriate government entities due to the COVID-19 crisis. This could include additional health restrictions and requirements on activities and even possible cancellation of the event. We will make every reasonable effort to notify you of changes in plans.</em>
LOCATION:13602 Pacific Ave S Tacoma\, WA 98444
UID:e.9280.4240
SEQUENCE:3
DTSTAMP:20260421T110411Z
URL:https://mbamemberzone.tacomawebsite.net/events/details/master-builders-spotlight-featuring-brookdale-lumber-4240
END:VEVENT

END:VCALENDAR
