BEGIN:VCALENDAR
VERSION:2.0
PRODID:-//ChamberMaster//Event Calendar 2.0//EN
METHOD:PUBLISH
X-PUBLISHED-TTL:P3D
REFRESH-INTERVAL:P3D
CALSCALE:GREGORIAN
BEGIN:VEVENT
DTSTART:20200821T003000Z
DTEND:20200821T023000Z
X-MICROSOFT-CDO-ALLDAYEVENT:FALSE
SUMMARY:CANCELLED - Design Professionals Council Summer Social
DESCRIPTION:This event is cancelled.
X-ALT-DESC;FMTTYPE=text/html:This event is cancelled.
LOCATION:
UID:e.9280.4048
SEQUENCE:3
DTSTAMP:20260421T110847Z
URL:https://mbamemberzone.tacomawebsite.net/events/details/cancelled-design-professionals-council-summer-social-4048
END:VEVENT

END:VCALENDAR
