BEGIN:VCALENDAR
VERSION:2.0
PRODID:-//ChamberMaster//Event Calendar 2.0//EN
METHOD:PUBLISH
X-PUBLISHED-TTL:P3D
REFRESH-INTERVAL:P3D
CALSCALE:GREGORIAN
BEGIN:VEVENT
DTSTART:20200918T003000Z
DTEND:20200918T023000Z
X-MICROSOFT-CDO-ALLDAYEVENT:FALSE
SUMMARY:CANCELLED - Design Professionals Council Meeting
DESCRIPTION:Due to do health guidelines and COVID-19\, this event has been cancelled.
X-ALT-DESC;FMTTYPE=text/html:Due to do health guidelines and COVID-19\, this event has been cancelled.
LOCATION:
UID:e.9280.4049
SEQUENCE:3
DTSTAMP:20260421T110738Z
URL:https://mbamemberzone.tacomawebsite.net/events/details/cancelled-design-professionals-council-meeting-4049
END:VEVENT

END:VCALENDAR
