BEGIN:VCALENDAR
VERSION:2.0
PRODID:-//ChamberMaster//Event Calendar 2.0//EN
METHOD:PUBLISH
X-PUBLISHED-TTL:P3D
REFRESH-INTERVAL:P3D
CALSCALE:GREGORIAN
BEGIN:VEVENT
DTSTART:20200807T003000Z
DTEND:20200807T040000Z
X-MICROSOFT-CDO-ALLDAYEVENT:FALSE
SUMMARY:2020 Member Appreciation Day - August @ the Rainiers
DESCRIPTION:The health and safety of our members is important to us. Due to COVID-19\, this event has been cancelled.
X-ALT-DESC;FMTTYPE=text/html:<em><strong><span style="color:#FF0000\;">The health and safety of our members is important to us. Due to COVID-19\, this event has been cancelled.</span></strong></em><br />\n<br />\n&nbsp\;
LOCATION:Cheney Stadium 2502 S Tyler St Tacoma\, WA 98405
UID:e.9280.4165
SEQUENCE:3
DTSTAMP:20260421T112811Z
URL:https://mbamemberzone.tacomawebsite.net/events/details/2020-member-appreciation-day-august-the-rainiers-4165
END:VEVENT

END:VCALENDAR
